BEGIN:VCALENDAR
VERSION:2.0
PRODID:-//Barn Farm Plants Garden Centre - ECPv6.15.20//NONSGML v1.0//EN
CALSCALE:GREGORIAN
METHOD:PUBLISH
X-WR-CALNAME:Barn Farm Plants Garden Centre
X-ORIGINAL-URL:https://www.barnfarmplants.co.uk
X-WR-CALDESC:Events for Barn Farm Plants Garden Centre
REFRESH-INTERVAL;VALUE=DURATION:PT1H
X-Robots-Tag:noindex
X-PUBLISHED-TTL:PT1H
BEGIN:VTIMEZONE
TZID:Europe/London
BEGIN:DAYLIGHT
TZOFFSETFROM:+0000
TZOFFSETTO:+0100
TZNAME:BST
DTSTART:20180325T010000
END:DAYLIGHT
BEGIN:STANDARD
TZOFFSETFROM:+0100
TZOFFSETTO:+0000
TZNAME:GMT
DTSTART:20181028T010000
END:STANDARD
BEGIN:DAYLIGHT
TZOFFSETFROM:+0000
TZOFFSETTO:+0100
TZNAME:BST
DTSTART:20190331T010000
END:DAYLIGHT
BEGIN:STANDARD
TZOFFSETFROM:+0100
TZOFFSETTO:+0000
TZNAME:GMT
DTSTART:20191027T010000
END:STANDARD
BEGIN:DAYLIGHT
TZOFFSETFROM:+0000
TZOFFSETTO:+0100
TZNAME:BST
DTSTART:20200329T010000
END:DAYLIGHT
BEGIN:STANDARD
TZOFFSETFROM:+0100
TZOFFSETTO:+0000
TZNAME:GMT
DTSTART:20201025T010000
END:STANDARD
BEGIN:DAYLIGHT
TZOFFSETFROM:+0000
TZOFFSETTO:+0100
TZNAME:BST
DTSTART:20210328T010000
END:DAYLIGHT
BEGIN:STANDARD
TZOFFSETFROM:+0100
TZOFFSETTO:+0000
TZNAME:GMT
DTSTART:20211031T010000
END:STANDARD
END:VTIMEZONE
BEGIN:VEVENT
DTSTART;TZID=Europe/London:20201109T093000
DTEND;TZID=Europe/London:20201113T170000
DTSTAMP:20260419T210304
CREATED:20200925T143154Z
LAST-MODIFIED:20201203T202919Z
UID:3828-1604914200-1605286800@www.barnfarmplants.co.uk
SUMMARY:Christmas Charity Week
DESCRIPTION:Monday 9th – Friday 13th November \nUnfortunately we are not able to hold our charity evening this year… but we are going to be holding a charity week. \nPlease join us during the week and earn points on your loyalty card…we will then match these points and give to the charities Katharine House Hospice and Dogs for Good. \nIf you don’t yet have a loyalty card – please pop in and sign up
URL:https://www.barnfarmplants.co.uk/event/christmas-charity-week/
CATEGORIES:Events,ShowOnHome
ATTACH;FMTTYPE=image/jpeg:https://www.barnfarmplants.co.uk/wp-content/uploads/2019/11/P1010533.jpg
END:VEVENT
BEGIN:VEVENT
DTSTART;TZID=Europe/London:20200910T190000
DTEND;TZID=Europe/London:20200910T203000
DTSTAMP:20260419T210304
CREATED:20200708T173903Z
LAST-MODIFIED:20201203T201030Z
UID:3638-1599764400-1599769800@www.barnfarmplants.co.uk
SUMMARY:Autumn/Winter Hanging Basket Workshop
DESCRIPTION:Hanging Basket Workshop \n10.30am and 7pm \n£10 plus charge for Materials and plants used. \nPlease Pre-Book
URL:https://www.barnfarmplants.co.uk/event/autumn-winter-hanging-basket-workshop-3/
ATTACH;FMTTYPE=image/jpeg:https://www.barnfarmplants.co.uk/wp-content/uploads/2019/03/f-Basket-7.-resizesjpg.jpg
END:VEVENT
BEGIN:VEVENT
DTSTART;TZID=Europe/London:20200910T190000
DTEND;TZID=Europe/London:20200910T203000
DTSTAMP:20260419T210304
CREATED:20191219T164208Z
LAST-MODIFIED:20201203T200841Z
UID:2110-1599764400-1599769800@www.barnfarmplants.co.uk
SUMMARY:Autumn/Winter Hanging Basket Workshop
DESCRIPTION:Hanging Basket Workshop \n10.30am and 7pm \n£10 plus charge for Materials and plants used. \nPlease Pre-Book
URL:https://www.barnfarmplants.co.uk/event/autumn-winter-hanging-basket-workshop-4/
CATEGORIES:ShowOnHome
ATTACH;FMTTYPE=image/jpeg:https://www.barnfarmplants.co.uk/wp-content/uploads/2019/03/f-Basket-7.-resizesjpg.jpg
END:VEVENT
BEGIN:VEVENT
DTSTART;TZID=Europe/London:20200718T100000
DTEND;TZID=Europe/London:20200718T160000
DTSTAMP:20260419T210304
CREATED:20200128T144426Z
LAST-MODIFIED:20201203T200841Z
UID:2185-1595066400-1595088000@www.barnfarmplants.co.uk
SUMMARY:Bee Keeping Day
DESCRIPTION:Learn how to keep bees. \nAn informative day on bee keeping for beginners \n£85 including Lunch \nPlease Pre-book
URL:https://www.barnfarmplants.co.uk/event/bee-keeping-day/
CATEGORIES:Events,ShowOnHome
ATTACH;FMTTYPE=image/jpeg:https://www.barnfarmplants.co.uk/wp-content/uploads/2020/01/035.jpg
END:VEVENT
BEGIN:VEVENT
DTSTART;TZID=Europe/London:20200716T130000
DTEND;TZID=Europe/London:20200716T160000
DTSTAMP:20260419T210304
CREATED:20200116T190912Z
LAST-MODIFIED:20201203T200841Z
UID:2173-1594904400-1594915200@www.barnfarmplants.co.uk
SUMMARY:Willow Workshop: Fruit Bowl
DESCRIPTION:Take part in our Willow Workshop\nCome and make your own willow creation and take home something wonderful to treasure! \nThis workshops theme is: Fruit Bowl \n£30 per person\n9.30am-12.30pm   or  1pm – 4pm
URL:https://www.barnfarmplants.co.uk/event/workshop-fruit-bowl/
CATEGORIES:Events,ShowOnHome
ATTACH;FMTTYPE=image/jpeg:https://www.barnfarmplants.co.uk/wp-content/uploads/2019/06/willow-resized.jpg
END:VEVENT
BEGIN:VEVENT
DTSTART;TZID=Europe/London:20200716T093000
DTEND;TZID=Europe/London:20200716T123000
DTSTAMP:20260419T210304
CREATED:20200116T191057Z
LAST-MODIFIED:20201203T200841Z
UID:2176-1594891800-1594902600@www.barnfarmplants.co.uk
SUMMARY:Willow Workshop: Fruit Bowl
DESCRIPTION:Take part in our Willow Workshop\nCome and make your own willow creation and take home something wonderful to treasure! \nThis workshops theme is: Fruit Bowl \n£30 per person\n9.30am-12.30pm   or  1pm – 4pm
URL:https://www.barnfarmplants.co.uk/event/willow-workshop-fruit-bowl/
CATEGORIES:Events,ShowOnHome
ATTACH;FMTTYPE=image/jpeg:https://www.barnfarmplants.co.uk/wp-content/uploads/2019/06/willow-resized.jpg
END:VEVENT
BEGIN:VEVENT
DTSTART;TZID=Europe/London:20200618T130000
DTEND;TZID=Europe/London:20200618T160000
DTSTAMP:20260419T210304
CREATED:20200116T190727Z
LAST-MODIFIED:20201203T200841Z
UID:2171-1592485200-1592496000@www.barnfarmplants.co.uk
SUMMARY:Willow Workshop: Garden Supports for Perennials
DESCRIPTION:Take part in our Willow Workshop\nCome and make your own willow creation and take home something wonderful to treasure! \nThis workshops theme is: Garden Supports for Perennials \n£30 per person\n9.30am-12.30pm   or  1pm – 4pm
URL:https://www.barnfarmplants.co.uk/event/willow-workshop-garden-supports-for-perennials-2/
CATEGORIES:Events,ShowOnHome
ATTACH;FMTTYPE=image/jpeg:https://www.barnfarmplants.co.uk/wp-content/uploads/2019/06/willow-resized.jpg
END:VEVENT
BEGIN:VEVENT
DTSTART;TZID=Europe/London:20200618T093000
DTEND;TZID=Europe/London:20200618T123000
DTSTAMP:20260419T210304
CREATED:20200116T190147Z
LAST-MODIFIED:20201203T200841Z
UID:2168-1592472600-1592483400@www.barnfarmplants.co.uk
SUMMARY:Willow Workshop: Garden Supports for Perennials
DESCRIPTION:Take part in our Willow Workshop\nCome and make your own willow creation and take home something wonderful to treasure! \nThis workshops theme is: Garden Supports for Perennials \n£30 per person\n9.30am-12.30pm   or  1pm – 4pm
URL:https://www.barnfarmplants.co.uk/event/willow-workshop-garden-supports-for-perennials/
CATEGORIES:Events,ShowOnHome
ATTACH;FMTTYPE=image/jpeg:https://www.barnfarmplants.co.uk/wp-content/uploads/2020/01/006.jpg
END:VEVENT
BEGIN:VEVENT
DTSTART;TZID=Europe/London:20200527T190000
DTEND;TZID=Europe/London:20200527T203000
DTSTAMP:20260419T210304
CREATED:20191219T163614Z
LAST-MODIFIED:20201203T200841Z
UID:2102-1590606000-1590611400@www.barnfarmplants.co.uk
SUMMARY:Summer Hanging Basket Workshop
DESCRIPTION:Hanging Basket Workshop. \n10.30am and 7pm \n£10 plus charge for materials and plants used. \nPlease pre-book
URL:https://www.barnfarmplants.co.uk/event/summer-hanging-basket-workshop-3/
CATEGORIES:Events,ShowOnHome
ATTACH;FMTTYPE=image/jpeg:https://www.barnfarmplants.co.uk/wp-content/uploads/2019/06/hanging-baskets-2-710x400.jpg
END:VEVENT
BEGIN:VEVENT
DTSTART;TZID=Europe/London:20200527T103000
DTEND;TZID=Europe/London:20200527T120000
DTSTAMP:20260419T210304
CREATED:20191219T163241Z
LAST-MODIFIED:20201203T200842Z
UID:2099-1590575400-1590580800@www.barnfarmplants.co.uk
SUMMARY:Summer Hanging Basket Workshop
DESCRIPTION:Hanging Basket Workshop. \n10.30am and 7pm \n£10 plus charge for materials and plants used. \nPlease pre-book
URL:https://www.barnfarmplants.co.uk/event/summer-hanging-basket-workshop-2/
CATEGORIES:Events,ShowOnHome
ATTACH;FMTTYPE=image/jpeg:https://www.barnfarmplants.co.uk/wp-content/uploads/2019/06/hanging-baskets-2-710x400.jpg
END:VEVENT
BEGIN:VEVENT
DTSTART;TZID=Europe/London:20200416T110000
DTEND;TZID=Europe/London:20200416T193000
DTSTAMP:20260419T210304
CREATED:20191219T162131Z
LAST-MODIFIED:20201203T200842Z
UID:2093-1587034800-1587065400@www.barnfarmplants.co.uk
SUMMARY:Spring Loyalty Holders Day
DESCRIPTION:Loyalty Card Holder’s Spring Day… Thursday 16th April. 11am-7.30pm . Everyone welcome. \nA fun day with help and advice for your garden\, hanging basket demonstration\, along with food and drink tasting and lots more.
URL:https://www.barnfarmplants.co.uk/event/spring-garden-evening/
CATEGORIES:Events,ShowOnHome
ATTACH;FMTTYPE=image/jpeg:https://www.barnfarmplants.co.uk/wp-content/uploads/2019/04/jute-bags-710x400.jpg
END:VEVENT
BEGIN:VEVENT
DTSTART;TZID=Europe/London:20200406T100000
DTEND;TZID=Europe/London:20200409T150000
DTSTAMP:20260419T210304
CREATED:20191219T163029Z
LAST-MODIFIED:20201203T200842Z
UID:2096-1586167200-1586444400@www.barnfarmplants.co.uk
SUMMARY:FREE Easter Bunny Hunt
DESCRIPTION:FREE Easter Bunny Hunt…Monday 6th – Thursday 9th April. Pop in any time between 10am and 3pm to join the fun!
URL:https://www.barnfarmplants.co.uk/event/free-easter-bunny-hunt/
CATEGORIES:Events,ShowOnHome
ATTACH;FMTTYPE=image/jpeg:https://www.barnfarmplants.co.uk/wp-content/uploads/2019/04/easter-bunnies710x400.jpg
END:VEVENT
BEGIN:VEVENT
DTSTART;TZID=Europe/London:20200326T110000
DTEND;TZID=Europe/London:20200326T120000
DTSTAMP:20260419T210304
CREATED:20200128T142629Z
LAST-MODIFIED:20201203T200842Z
UID:2181-1585220400-1585224000@www.barnfarmplants.co.uk
SUMMARY:Grow Your Own Veg in Patio Planters
DESCRIPTION:Talk and Demonstration with expert advice on grow vegetables for small gardens and patios. \nPlease Pre-Book your place \n£10 per person which includes a goody bag
URL:https://www.barnfarmplants.co.uk/event/grow-your-own-veg-in-patio-planters/
CATEGORIES:Events,ShowOnHome
ATTACH;FMTTYPE=image/jpeg:https://www.barnfarmplants.co.uk/wp-content/uploads/2020/01/DSC03455.jpg
END:VEVENT
BEGIN:VEVENT
DTSTART;TZID=Europe/London:20200312T130000
DTEND;TZID=Europe/London:20200312T160000
DTSTAMP:20260419T210304
CREATED:20200116T185906Z
LAST-MODIFIED:20201203T200842Z
UID:2163-1584018000-1584028800@www.barnfarmplants.co.uk
SUMMARY:Willow Workshop: Sweet Pea Supports
DESCRIPTION:Take part in our Willow Workshop\nCome and make your own willow creation and take home something wonderful to treasure! \nThis workshops theme is: Sweet Pea Supports \n£30 per person\n9.30am-12.30pm   or  1pm – 4pm
URL:https://www.barnfarmplants.co.uk/event/willow-workshop-bird-feeders-2/
CATEGORIES:Events,ShowOnHome
ATTACH;FMTTYPE=image/jpeg:https://www.barnfarmplants.co.uk/wp-content/uploads/2019/06/willow-resized.jpg
END:VEVENT
BEGIN:VEVENT
DTSTART;TZID=Europe/London:20200312T093000
DTEND;TZID=Europe/London:20200312T123000
DTSTAMP:20260419T210304
CREATED:20200116T190047Z
LAST-MODIFIED:20201203T200842Z
UID:2166-1584005400-1584016200@www.barnfarmplants.co.uk
SUMMARY:Willow Workshop: Sweet Pea Supports
DESCRIPTION:Take part in our Willow Workshop\nCome and make your own willow creation and take home something wonderful to treasure! \nThis workshops theme is: Sweet Pea Supports \n£30 per person\n9.30am-12.30pm   or  1pm – 4pm
URL:https://www.barnfarmplants.co.uk/event/willow-workshop-sweet-pea-supports/
CATEGORIES:Events,ShowOnHome
ATTACH;FMTTYPE=image/jpeg:https://www.barnfarmplants.co.uk/wp-content/uploads/2019/06/willow-resized.jpg
END:VEVENT
BEGIN:VEVENT
DTSTART;TZID=Europe/London:20200221T140000
DTEND;TZID=Europe/London:20200221T153000
DTSTAMP:20260419T210304
CREATED:20191219T162024Z
LAST-MODIFIED:20201203T200842Z
UID:2091-1582293600-1582299000@www.barnfarmplants.co.uk
SUMMARY:Half Term Activity
DESCRIPTION:Join us for a fun creating activity to make Your Own Bug House
URL:https://www.barnfarmplants.co.uk/event/half-term-activity-6/
CATEGORIES:Craft,ShowOnHome
ATTACH;FMTTYPE=image/jpeg:https://www.barnfarmplants.co.uk/wp-content/uploads/2019/04/P1020256_710x400.jpg
END:VEVENT
BEGIN:VEVENT
DTSTART;TZID=Europe/London:20200221T100000
DTEND;TZID=Europe/London:20200221T130000
DTSTAMP:20260419T210304
CREATED:20191219T161919Z
LAST-MODIFIED:20201203T200842Z
UID:2089-1582279200-1582290000@www.barnfarmplants.co.uk
SUMMARY:Half Term Activity
DESCRIPTION:Join us for a fun creating activity to make Your Own Bug House
URL:https://www.barnfarmplants.co.uk/event/half-term-activity-5/
CATEGORIES:Craft,ShowOnHome
ATTACH;FMTTYPE=image/jpeg:https://www.barnfarmplants.co.uk/wp-content/uploads/2019/04/P1020256_710x400.jpg
END:VEVENT
BEGIN:VEVENT
DTSTART;TZID=Europe/London:20200220T140000
DTEND;TZID=Europe/London:20200220T153000
DTSTAMP:20260419T210304
CREATED:20191216T212815Z
LAST-MODIFIED:20201203T200842Z
UID:2077-1582207200-1582212600@www.barnfarmplants.co.uk
SUMMARY:Half Term Activity
DESCRIPTION:Join us for a fun creating activity to make Your Own Bug House
URL:https://www.barnfarmplants.co.uk/event/half-term-activity-2/
CATEGORIES:Craft,ShowOnHome
ATTACH;FMTTYPE=image/jpeg:https://www.barnfarmplants.co.uk/wp-content/uploads/2019/04/P1020256_710x400.jpg
END:VEVENT
BEGIN:VEVENT
DTSTART;TZID=Europe/London:20200220T100000
DTEND;TZID=Europe/London:20200220T130000
DTSTAMP:20260419T210304
CREATED:20191216T212825Z
LAST-MODIFIED:20201203T200842Z
UID:2078-1582192800-1582203600@www.barnfarmplants.co.uk
SUMMARY:Half Term Activity
DESCRIPTION:Join us for a fun creating activity to make Your Own Bug House
URL:https://www.barnfarmplants.co.uk/event/half-term-activity-3/
CATEGORIES:Craft,ShowOnHome
ATTACH;FMTTYPE=image/jpeg:https://www.barnfarmplants.co.uk/wp-content/uploads/2019/04/P1020256_710x400.jpg
END:VEVENT
BEGIN:VEVENT
DTSTART;TZID=Europe/London:20200219T100000
DTEND;TZID=Europe/London:20200219T130000
DTSTAMP:20260419T210304
CREATED:20191219T161023Z
LAST-MODIFIED:20201203T200843Z
UID:2086-1582106400-1582117200@www.barnfarmplants.co.uk
SUMMARY:Half Term Activity
DESCRIPTION:Join us for a fun creating activity to make Your Own Bug House
URL:https://www.barnfarmplants.co.uk/event/half-term-activity-4/
CATEGORIES:Craft,ShowOnHome
ATTACH;FMTTYPE=image/jpeg:https://www.barnfarmplants.co.uk/wp-content/uploads/2019/04/P1020256_710x400.jpg
END:VEVENT
BEGIN:VEVENT
DTSTART;TZID=Europe/London:20200219T100000
DTEND;TZID=Europe/London:20200219T130000
DTSTAMP:20260419T210304
CREATED:20191216T212538Z
LAST-MODIFIED:20201203T200843Z
UID:2075-1582106400-1582117200@www.barnfarmplants.co.uk
SUMMARY:Half Term Activity
DESCRIPTION:Join us for a fun creating activity to make Your Own Bug House
URL:https://www.barnfarmplants.co.uk/event/half-term-activity/
CATEGORIES:Craft,ShowOnHome
ATTACH;FMTTYPE=image/jpeg:https://www.barnfarmplants.co.uk/wp-content/uploads/2019/04/P1020256_710x400.jpg
END:VEVENT
BEGIN:VEVENT
DTSTART;TZID=Europe/London:20200213T130000
DTEND;TZID=Europe/London:20200213T160000
DTSTAMP:20260419T210304
CREATED:20200116T181656Z
LAST-MODIFIED:20201203T200843Z
UID:2161-1581598800-1581609600@www.barnfarmplants.co.uk
SUMMARY:Willow Workshop: Bird Feeders
DESCRIPTION:Take part in our Willow Workshop\nCome and make your own willow creation and take home something wonderful to treasure! \nThis workshops theme is: Bird Feeders \n£30 per person\n9.30am-12.30pm   or  1pm – 4pm
URL:https://www.barnfarmplants.co.uk/event/willow-workshop-bird-feeders/
CATEGORIES:Events,ShowOnHome
ATTACH;FMTTYPE=image/jpeg:https://www.barnfarmplants.co.uk/wp-content/uploads/2019/06/willow-resized.jpg
END:VEVENT
BEGIN:VEVENT
DTSTART;TZID=Europe/London:20200213T093000
DTEND;TZID=Europe/London:20200213T123000
DTSTAMP:20260419T210304
CREATED:20200116T181315Z
LAST-MODIFIED:20201203T200843Z
UID:2158-1581586200-1581597000@www.barnfarmplants.co.uk
SUMMARY:Willow Workshop: Bird Feeders
DESCRIPTION:Take part in our Willow Workshop\nCome and make your own willow creation and take home something wonderful to treasure! \nThis workshops theme is: Bird Feeders \n£30 per person\n9.30am-12.30pm   or  1pm – 4pm
URL:https://www.barnfarmplants.co.uk/event/bird-feeders/
CATEGORIES:Craft,Crafts,ShowOnHome
ATTACH;FMTTYPE=image/jpeg:https://www.barnfarmplants.co.uk/wp-content/uploads/2019/06/willow-resized.jpg
END:VEVENT
BEGIN:VEVENT
DTSTART;TZID=Europe/London:20191222T110000
DTEND;TZID=Europe/London:20191222T130000
DTSTAMP:20260419T210304
CREATED:20190819T163857Z
LAST-MODIFIED:20201203T200843Z
UID:1855-1577012400-1577019600@www.barnfarmplants.co.uk
SUMMARY:Santa Paws
DESCRIPTION:Bring your dog to see Father Christmas! \nCost £2 per Dog – Visit to Father Christmas and treat bag!
URL:https://www.barnfarmplants.co.uk/event/santa-paws/
CATEGORIES:Events,ShowOnHome
ATTACH;FMTTYPE=image/jpeg:https://www.barnfarmplants.co.uk/wp-content/uploads/2019/08/IMG_5259-Copy-.jpg
END:VEVENT
BEGIN:VEVENT
DTSTART;TZID=Europe/London:20191211T163000
DTEND;TZID=Europe/London:20191211T183000
DTSTAMP:20260419T210304
CREATED:20190819T162912Z
LAST-MODIFIED:20201203T200843Z
UID:1851-1576081800-1576089000@www.barnfarmplants.co.uk
SUMMARY:Father Christmas
DESCRIPTION:Father Christmas will be visiting!
URL:https://www.barnfarmplants.co.uk/event/farther-christmas/
CATEGORIES:Events,ShowOnHome
ATTACH;FMTTYPE=image/jpeg:https://www.barnfarmplants.co.uk/wp-content/uploads/2019/08/web-2-1.jpg
END:VEVENT
BEGIN:VEVENT
DTSTART;TZID=Europe/London:20191208T140000
DTEND;TZID=Europe/London:20191208T160000
DTSTAMP:20260419T210304
CREATED:20190819T162332Z
LAST-MODIFIED:20201203T200843Z
UID:1848-1575813600-1575820800@www.barnfarmplants.co.uk
SUMMARY:Father Christmas
DESCRIPTION:Father Christmas will be visiting!
URL:https://www.barnfarmplants.co.uk/event/father-christmas-2/
CATEGORIES:Events,ShowOnHome
ATTACH;FMTTYPE=image/jpeg:https://www.barnfarmplants.co.uk/wp-content/uploads/2019/08/web-2-1.jpg
END:VEVENT
BEGIN:VEVENT
DTSTART;TZID=Europe/London:20191207T140000
DTEND;TZID=Europe/London:20191207T160000
DTSTAMP:20260419T210304
CREATED:20190819T162123Z
LAST-MODIFIED:20201203T200843Z
UID:1845-1575727200-1575734400@www.barnfarmplants.co.uk
SUMMARY:Father Christmas
DESCRIPTION:Father Christmas will be visiting!
URL:https://www.barnfarmplants.co.uk/event/father-christmas/
CATEGORIES:Events,ShowOnHome
ATTACH;FMTTYPE=image/jpeg:https://www.barnfarmplants.co.uk/wp-content/uploads/2019/08/web-2-1.jpg
END:VEVENT
BEGIN:VEVENT
DTSTART;TZID=Europe/London:20191126T183000
DTEND;TZID=Europe/London:20191126T203000
DTSTAMP:20260419T210304
CREATED:20191113T193803Z
LAST-MODIFIED:20201203T200843Z
UID:2005-1574793000-1574800200@www.barnfarmplants.co.uk
SUMMARY:Christmas Charity Evening
DESCRIPTION:Christmas Charity Evening \nEntry £3 (under 16’s FREE) \nPlease join us for a complimentary glass of mulled wine\, whilst enjoying a festive evening with gift stalls\, tombola\, cake stall and FREE visits to Father Christmas. \nIn aid of Katharine House Hospice\, Dogs for Good and St Mary Magdalene Wardington.
URL:https://www.barnfarmplants.co.uk/event/christmas-charity-evening/
CATEGORIES:Events,ShowOnHome
ATTACH;FMTTYPE=image/jpeg:https://www.barnfarmplants.co.uk/wp-content/uploads/2019/11/P1010533.jpg
END:VEVENT
BEGIN:VEVENT
DTSTART;TZID=Europe/London:20191121T100000
DTEND;TZID=Europe/London:20191121T130000
DTSTAMP:20260419T210304
CREATED:20190617T173156Z
LAST-MODIFIED:20201203T200844Z
UID:1355-1574330400-1574341200@www.barnfarmplants.co.uk
SUMMARY:Willow Workshop: Christmas Angels
DESCRIPTION:Take part in our Willow Workshop\nCome and make your own willow creation and take home something wonderful to treasure! \nThis workshops theme is: Make your own Christmas Angel \n£30 per person\n10am-1pm
URL:https://www.barnfarmplants.co.uk/event/christmas-angels/
CATEGORIES:Craft,Crafts,ShowOnHome
ATTACH;FMTTYPE=image/jpeg:https://www.barnfarmplants.co.uk/wp-content/uploads/2019/06/willow-resized.jpg
END:VEVENT
BEGIN:VEVENT
DTSTART;TZID=Europe/London:20191114T100000
DTEND;TZID=Europe/London:20191114T130000
DTSTAMP:20260419T210304
CREATED:20190617T172908Z
LAST-MODIFIED:20201203T200844Z
UID:1353-1573725600-1573736400@www.barnfarmplants.co.uk
SUMMARY:Willow Workshop: Wreaths & Christmas Decorations
DESCRIPTION:Take part in our Willow Workshop\nCome and make your own willow creation and take home something wonderful to treasure! \nThis workshops theme is: Make your own wreaths and Christmas decorations \n£30 per person\n10am-1pm
URL:https://www.barnfarmplants.co.uk/event/wreaths-christmas-decorations/
CATEGORIES:Craft,Crafts,ShowOnHome
ATTACH;FMTTYPE=image/jpeg:https://www.barnfarmplants.co.uk/wp-content/uploads/2019/06/willow-resized.jpg
END:VEVENT
END:VCALENDAR