BEGIN:VCALENDAR
VERSION:2.0
PRODID:-//Barn Farm Plants Garden Centre - ECPv6.15.20//NONSGML v1.0//EN
CALSCALE:GREGORIAN
METHOD:PUBLISH
X-ORIGINAL-URL:https://www.barnfarmplants.co.uk
X-WR-CALDESC:Events for Barn Farm Plants Garden Centre
REFRESH-INTERVAL;VALUE=DURATION:PT1H
X-Robots-Tag:noindex
X-PUBLISHED-TTL:PT1H
BEGIN:VTIMEZONE
TZID:Europe/London
BEGIN:DAYLIGHT
TZOFFSETFROM:+0000
TZOFFSETTO:+0100
TZNAME:BST
DTSTART:20200329T010000
END:DAYLIGHT
BEGIN:STANDARD
TZOFFSETFROM:+0100
TZOFFSETTO:+0000
TZNAME:GMT
DTSTART:20201025T010000
END:STANDARD
BEGIN:DAYLIGHT
TZOFFSETFROM:+0000
TZOFFSETTO:+0100
TZNAME:BST
DTSTART:20210328T010000
END:DAYLIGHT
BEGIN:STANDARD
TZOFFSETFROM:+0100
TZOFFSETTO:+0000
TZNAME:GMT
DTSTART:20211031T010000
END:STANDARD
BEGIN:DAYLIGHT
TZOFFSETFROM:+0000
TZOFFSETTO:+0100
TZNAME:BST
DTSTART:20220327T010000
END:DAYLIGHT
BEGIN:STANDARD
TZOFFSETFROM:+0100
TZOFFSETTO:+0000
TZNAME:GMT
DTSTART:20221030T010000
END:STANDARD
BEGIN:DAYLIGHT
TZOFFSETFROM:+0000
TZOFFSETTO:+0100
TZNAME:BST
DTSTART:20230326T010000
END:DAYLIGHT
BEGIN:STANDARD
TZOFFSETFROM:+0100
TZOFFSETTO:+0000
TZNAME:GMT
DTSTART:20231029T010000
END:STANDARD
BEGIN:DAYLIGHT
TZOFFSETFROM:+0000
TZOFFSETTO:+0100
TZNAME:BST
DTSTART:20240331T010000
END:DAYLIGHT
BEGIN:STANDARD
TZOFFSETFROM:+0100
TZOFFSETTO:+0000
TZNAME:GMT
DTSTART:20241027T010000
END:STANDARD
BEGIN:DAYLIGHT
TZOFFSETFROM:+0000
TZOFFSETTO:+0100
TZNAME:BST
DTSTART:20250330T010000
END:DAYLIGHT
BEGIN:STANDARD
TZOFFSETFROM:+0100
TZOFFSETTO:+0000
TZNAME:GMT
DTSTART:20251026T010000
END:STANDARD
BEGIN:DAYLIGHT
TZOFFSETFROM:+0000
TZOFFSETTO:+0100
TZNAME:BST
DTSTART:20260329T010000
END:DAYLIGHT
BEGIN:STANDARD
TZOFFSETFROM:+0100
TZOFFSETTO:+0000
TZNAME:GMT
DTSTART:20261025T010000
END:STANDARD
END:VTIMEZONE
BEGIN:VEVENT
DTSTART;VALUE=DATE:20210101
DTEND;VALUE=DATE:20220101
DTSTAMP:20260419T193232
CREATED:20201203T203423Z
LAST-MODIFIED:20220905T153754Z
UID:4155-1609459200-1640995199@www.barnfarmplants.co.uk
SUMMARY:Events for 2022 will be posted when events are organised
DESCRIPTION:Events for 2022 will be posted when events are organised
URL:https://www.barnfarmplants.co.uk/event/2022-events/
ATTACH;FMTTYPE=image/jpeg:https://www.barnfarmplants.co.uk/wp-content/uploads/2020/07/clemetis.jpg
END:VEVENT
BEGIN:VEVENT
DTSTART;TZID=Europe/London:20211208T090000
DTEND;TZID=Europe/London:20211208T190000
DTSTAMP:20260419T193232
CREATED:20211115T194309Z
LAST-MODIFIED:20211115T194330Z
UID:4515-1638954000-1638990000@www.barnfarmplants.co.uk
SUMMARY:Late Night Open until 7pm
DESCRIPTION:Late Night Open until 7pm \nWith Father Christmas\, mulled wine and special offers
URL:https://www.barnfarmplants.co.uk/event/late-night-open/
END:VEVENT
BEGIN:VEVENT
DTSTART;TZID=Europe/London:20221024T100000
DTEND;TZID=Europe/London:20221028T150000
DTSTAMP:20260419T193232
CREATED:20221005T112503Z
LAST-MODIFIED:20221005T112503Z
UID:5065-1666605600-1666969200@www.barnfarmplants.co.uk
SUMMARY:Pumpkin Hunt
DESCRIPTION:
URL:https://www.barnfarmplants.co.uk/event/pumpkin-hunt/
CATEGORIES:Halloween
ATTACH;FMTTYPE=image/jpeg:https://www.barnfarmplants.co.uk/wp-content/uploads/2022/10/Pumpkin-Hunt-web-.jpg
END:VEVENT
BEGIN:VEVENT
DTSTART;TZID=Europe/London:20221218T110000
DTEND;TZID=Europe/London:20221218T133000
DTSTAMP:20260419T193232
CREATED:20221005T111151Z
LAST-MODIFIED:20221005T111356Z
UID:5055-1671361200-1671370200@www.barnfarmplants.co.uk
SUMMARY:Santa Paws
DESCRIPTION:
URL:https://www.barnfarmplants.co.uk/event/santa-paws-2/
CATEGORIES:Christmas
ATTACH;FMTTYPE=image/jpeg:https://www.barnfarmplants.co.uk/wp-content/uploads/2022/10/Sana-Paws-Green-Web-Site.jpg
END:VEVENT
BEGIN:VEVENT
DTSTART;TZID=Europe/London:20221220T110000
DTEND;TZID=Europe/London:20221220T130000
DTSTAMP:20260419T193232
CREATED:20221005T112113Z
LAST-MODIFIED:20221005T112114Z
UID:5062-1671534000-1671541200@www.barnfarmplants.co.uk
SUMMARY:Christmas Table Decoration
DESCRIPTION:
URL:https://www.barnfarmplants.co.uk/event/christmas-table-decoration/
CATEGORIES:Christmas
ATTACH;FMTTYPE=image/jpeg:https://www.barnfarmplants.co.uk/wp-content/uploads/2022/10/Christmas-Arrangement-web.jpg
END:VEVENT
BEGIN:VEVENT
DTSTART;TZID=Europe/London:20230530T100000
DTEND;TZID=Europe/London:20230602T150000
DTSTAMP:20260419T193232
CREATED:20230524T112359Z
LAST-MODIFIED:20230524T112602Z
UID:5301-1685440800-1685718000@www.barnfarmplants.co.uk
SUMMARY:Veggie Hunt
DESCRIPTION:Please bring a pen or pencil with you
URL:https://www.barnfarmplants.co.uk/event/veggie-hunt/
END:VEVENT
BEGIN:VEVENT
DTSTART;TZID=Europe/London:20230609T110000
DTEND;TZID=Europe/London:20230609T150000
DTSTAMP:20260419T193232
CREATED:20230508T185641Z
LAST-MODIFIED:20230508T185641Z
UID:5293-1686308400-1686322800@www.barnfarmplants.co.uk
SUMMARY:Food and Drink Tasting
DESCRIPTION:Jon us
URL:https://www.barnfarmplants.co.uk/event/food-and-drink-tasting/
END:VEVENT
BEGIN:VEVENT
DTSTART;TZID=Europe/London:20231216T140000
DTEND;TZID=Europe/London:20231216T163000
DTSTAMP:20260419T193232
CREATED:20221005T111934Z
LAST-MODIFIED:20231118T194513Z
UID:5059-1702735200-1702744200@www.barnfarmplants.co.uk
SUMMARY:Father Christmas
DESCRIPTION:
URL:https://www.barnfarmplants.co.uk/event/father-christmas-4/
CATEGORIES:Christmas
ATTACH;FMTTYPE=image/jpeg:https://www.barnfarmplants.co.uk/wp-content/uploads/2022/10/Father-Christmas-web.jpg
END:VEVENT
BEGIN:VEVENT
DTSTART;TZID=Europe/London:20231221T143000
DTEND;TZID=Europe/London:20231221T160000
DTSTAMP:20260419T193232
CREATED:20231118T205620Z
LAST-MODIFIED:20231118T205620Z
UID:5380-1703169000-1703174400@www.barnfarmplants.co.uk
SUMMARY:Santa Paws
DESCRIPTION:
URL:https://www.barnfarmplants.co.uk/event/santa-paws-3/
END:VEVENT
BEGIN:VEVENT
DTSTART;VALUE=DATE:20240102
DTEND;VALUE=DATE:20240103
DTSTAMP:20260419T193232
CREATED:20231118T195227Z
LAST-MODIFIED:20231118T195227Z
UID:5377-1704153600-1704239999@www.barnfarmplants.co.uk
SUMMARY:Open
DESCRIPTION:
URL:https://www.barnfarmplants.co.uk/event/open/
END:VEVENT
BEGIN:VEVENT
DTSTART;TZID=Europe/London:20241126T173000
DTEND;TZID=Europe/London:20241126T193000
DTSTAMP:20260419T193232
CREATED:20231006T194317Z
LAST-MODIFIED:20240924T135547Z
UID:5338-1732642200-1732649400@www.barnfarmplants.co.uk
SUMMARY:Christmas Charity Evening
DESCRIPTION:
URL:https://www.barnfarmplants.co.uk/event/christmas-charity-evening-2/
ATTACH;FMTTYPE=image/png:https://www.barnfarmplants.co.uk/wp-content/uploads/2023/10/Charity-Evening-2024.png
END:VEVENT
BEGIN:VEVENT
DTSTART;TZID=Europe/London:20241225T090000
DTEND;TZID=Europe/London:20250102T090000
DTSTAMP:20260419T193232
CREATED:20231118T194714Z
LAST-MODIFIED:20241125T201147Z
UID:5374-1735117200-1735808400@www.barnfarmplants.co.uk
SUMMARY:Closed for Christmas 12noon Christmas Eve  Re-opening Friday 3rd January 2025
DESCRIPTION:Closed for Christmas at 12 noon Tuesday 24th December 2024 re-opening Friday 3rd January 2025 \nMerry Christmas and a Happy New Year
URL:https://www.barnfarmplants.co.uk/event/closed-for-christmas-12noon-christmas-eve-re-opening-friday-3rd-january-2025/
END:VEVENT
BEGIN:VEVENT
DTSTART;TZID=Europe/London:20250214T080000
DTEND;TZID=Europe/London:20250214T170000
DTSTAMP:20260419T193232
CREATED:20250214T152945Z
LAST-MODIFIED:20250214T152945Z
UID:5650-1739520000-1739552400@www.barnfarmplants.co.uk
SUMMARY:Gardening Guru Day
DESCRIPTION:Join us for an exciting day full of gardening advice… \nThe team will include Bert Manton who has a great knowledge of gardening and he will be here between 11am-3pm\nWatch Bert make Willow Plant Supports…with your chance of having a go! \nOther Experts will include a range of  Pruning\, Compost and Lawn Care.\n 
URL:https://www.barnfarmplants.co.uk/event/gardening-guru-day/
END:VEVENT
BEGIN:VEVENT
DTSTART;TZID=Europe/London:20250404T110000
DTEND;TZID=Europe/London:20250404T150000
DTSTAMP:20260419T193232
CREATED:20250214T153400Z
LAST-MODIFIED:20250214T153716Z
UID:5653-1743764400-1743778800@www.barnfarmplants.co.uk
SUMMARY:Gardening Guru Day
DESCRIPTION:Join us for an exciting day full of gardening advice… \nThe team will include Bert Manton who has a great knowledge of gardening and he will be here between 11am-3pm\nWatch Bert make Willow Plant Supports…with your chance of having a go! \nOther Experts will include a range of  Pruning\, Compost and Lawn Care.\n       \n  \n  \n  \n 
URL:https://www.barnfarmplants.co.uk/event/gardening-guru-day-2/
END:VEVENT
BEGIN:VEVENT
DTSTART;TZID=Europe/London:20250926T093000
DTEND;TZID=Europe/London:20250926T120000
DTSTAMP:20260419T193232
CREATED:20250919T153718Z
LAST-MODIFIED:20250919T161439Z
UID:2104-1758879000-1758888000@www.barnfarmplants.co.uk
SUMMARY:Macmillan Coffee Morning
DESCRIPTION:Join us for a delightful morning of coffee\, delicious cakes and fun on friday 26th September 9.30am-12noon. \nLet’s support a great cause together!
URL:https://www.barnfarmplants.co.uk/event/macmillan-coffee-morning-2/
CATEGORIES:Events
ATTACH;FMTTYPE=image/jpeg:https://www.barnfarmplants.co.uk/wp-content/uploads/2021/08/Macmillan.jpg
END:VEVENT
BEGIN:VEVENT
DTSTART;TZID=Europe/London:20251024T150000
DTEND;TZID=Europe/London:20251024T190000
DTSTAMP:20260419T193232
CREATED:20250926T143636Z
LAST-MODIFIED:20250926T143636Z
UID:5743-1761318000-1761332400@www.barnfarmplants.co.uk
SUMMARY:Christmas Launch
DESCRIPTION:
URL:https://www.barnfarmplants.co.uk/event/christmas-launch/
END:VEVENT
BEGIN:VEVENT
DTSTART;TZID=Europe/London:20251221T130000
DTEND;TZID=Europe/London:20251221T153000
DTSTAMP:20260419T193232
CREATED:20250919T125613Z
LAST-MODIFIED:20250919T161102Z
UID:5343-1766322000-1766331000@www.barnfarmplants.co.uk
SUMMARY:Father Christmas
DESCRIPTION:
URL:https://www.barnfarmplants.co.uk/event/father-christmas-5/
CATEGORIES:Christmas
ATTACH;FMTTYPE=image/png:https://www.barnfarmplants.co.uk/wp-content/uploads/2023/10/Father-Christmas-2025.png
END:VEVENT
END:VCALENDAR